BEGIN:VCALENDAR
VERSION:2.0
PRODID:SchoolNow
CALSCALE:GREGORIAN
BEGIN:VEVENT
UID:c60f4ce8-401d-11f0-8a32-0ef12ce603c9
DTSTAMP:20260419T225506Z
SUMMARY:Staff Day
URL;VALUE=URI:https://www.nextechhigh.org/grand-rapids/calendar/8242857/sta
 ff-day
DTSTART;VALUE=DATE:20260608
DTEND;VALUE=DATE:20260609
END:VEVENT
END:VCALENDAR
