BEGIN:VCALENDAR
VERSION:2.0
PRODID:SchoolNow
CALSCALE:GREGORIAN
BEGIN:VEVENT
UID:c60f4c02-401d-11f0-b5db-0ef12ce603c9
DTSTAMP:20260419T225506Z
SUMMARY:Trimester 3 Ends
URL;VALUE=URI:https://www.nextechhigh.org/grand-rapids/calendar/8242856/tri
 mester-3-ends
DTSTART;VALUE=DATE:20260605
DTEND;VALUE=DATE:20260606
END:VEVENT
END:VCALENDAR
