BEGIN:VCALENDAR
VERSION:2.0
PRODID:SchoolNow
CALSCALE:GREGORIAN
BEGIN:VEVENT
UID:c60f4b26-401d-11f0-960f-0ef12ce603c9
DTSTAMP:20260419T225506Z
SUMMARY:No School (Memorial Day)
URL;VALUE=URI:https://www.nextechhigh.org/grand-rapids/calendar/8242855/no-
 school-memorial-day
DTSTART;VALUE=DATE:20260525
DTEND;VALUE=DATE:20260526
END:VEVENT
END:VCALENDAR
