BEGIN:VCALENDAR
VERSION:2.0
PRODID:SchoolNow
CALSCALE:GREGORIAN
BEGIN:VEVENT
UID:c60f4a4a-401d-11f0-9274-0ef12ce603c9
DTSTAMP:20260419T225506Z
SUMMARY:Parent Conferences Trimester 3
URL;VALUE=URI:https://www.nextechhigh.org/grand-rapids/calendar/8242854/par
 ent-conferences-trimester-3
DTSTART;VALUE=DATE:20260427
DTEND;VALUE=DATE:20260428
END:VEVENT
END:VCALENDAR
