BEGIN:VCALENDAR
VERSION:2.0
PRODID:SchoolNow
CALSCALE:GREGORIAN
BEGIN:VEVENT
UID:c60f46c6-401d-11f0-a069-0ef12ce603c9
DTSTAMP:20260419T225506Z
SUMMARY:Spring Break
URL;VALUE=URI:https://www.nextechhigh.org/grand-rapids/calendar/8242850/spr
 ing-break
DTSTART;VALUE=DATE:20260407
DTEND;VALUE=DATE:20260408
END:VEVENT
END:VCALENDAR
