BEGIN:VCALENDAR
VERSION:2.0
PRODID:SchoolNow
CALSCALE:GREGORIAN
BEGIN:VEVENT
UID:c60f44fa-401d-11f0-9314-0ef12ce603c9
DTSTAMP:20260419T225506Z
SUMMARY:No School (Spring Break)
URL;VALUE=URI:https://www.nextechhigh.org/grand-rapids/calendar/8242848/no-
 school-spring-break
DTSTART;VALUE=DATE:20260403
DTEND;VALUE=DATE:20260404
END:VEVENT
END:VCALENDAR
