BEGIN:VCALENDAR
VERSION:2.0
PRODID:SchoolNow
CALSCALE:GREGORIAN
BEGIN:VEVENT
UID:c60f441e-401d-11f0-85e5-0ef12ce603c9
DTSTAMP:20260419T225506Z
SUMMARY:Start of Trimester 3
URL;VALUE=URI:https://www.nextechhigh.org/grand-rapids/calendar/8242847/sta
 rt-of-trimester-3
DTSTART;VALUE=DATE:20260309
DTEND;VALUE=DATE:20260310
END:VEVENT
END:VCALENDAR
