BEGIN:VCALENDAR
VERSION:2.0
PRODID:SchoolNow
CALSCALE:GREGORIAN
BEGIN:VEVENT
UID:c60f4338-401d-11f0-a902-0ef12ce603c9
DTSTAMP:20260419T225506Z
SUMMARY:End of Trimester 2
URL;VALUE=URI:https://www.nextechhigh.org/grand-rapids/calendar/8242846/end
 -of-trimester-2
DTSTART;VALUE=DATE:20260306
DTEND;VALUE=DATE:20260307
END:VEVENT
END:VCALENDAR
