BEGIN:VCALENDAR
VERSION:2.0
PRODID:SchoolNow
CALSCALE:GREGORIAN
BEGIN:VEVENT
UID:c60f425c-401d-11f0-9469-0ef12ce603c9
DTSTAMP:20260419T225506Z
SUMMARY:No School (Winter Break)
URL;VALUE=URI:https://www.nextechhigh.org/grand-rapids/calendar/8242845/no-
 school-winter-break
DTSTART;VALUE=DATE:20260216
DTEND;VALUE=DATE:20260217
END:VEVENT
END:VCALENDAR
