BEGIN:VCALENDAR
VERSION:2.0
PRODID:SchoolNow
CALSCALE:GREGORIAN
BEGIN:VEVENT
UID:c60f4180-401d-11f0-ac07-0ef12ce603c9
DTSTAMP:20260419T225506Z
SUMMARY:No School (Winter Break)
URL;VALUE=URI:https://www.nextechhigh.org/grand-rapids/calendar/8242844/no-
 school-winter-break
DTSTART;VALUE=DATE:20260213
DTEND;VALUE=DATE:20260214
END:VEVENT
END:VCALENDAR
