BEGIN:VCALENDAR
VERSION:2.0
PRODID:SchoolNow
CALSCALE:GREGORIAN
BEGIN:VEVENT
UID:c60f40a4-401d-11f0-a478-0ef12ce603c9
DTSTAMP:20260419T225506Z
SUMMARY:Staff Training/Work from Home Day
URL;VALUE=URI:https://www.nextechhigh.org/grand-rapids/calendar/8242843/sta
 ff-training-work-from-home-day
DTSTART;VALUE=DATE:20260119
DTEND;VALUE=DATE:20260120
END:VEVENT
END:VCALENDAR
