BEGIN:VCALENDAR
VERSION:2.0
PRODID:SchoolNow
CALSCALE:GREGORIAN
BEGIN:VEVENT
UID:c60f3fbe-401d-11f0-a2e7-0ef12ce603c9
DTSTAMP:20260419T225506Z
SUMMARY:Parent Conferences Trimester 2
URL;VALUE=URI:https://www.nextechhigh.org/grand-rapids/calendar/8242842/par
 ent-conferences-trimester-2
DTSTART;VALUE=DATE:20260112
DTEND;VALUE=DATE:20260113
END:VEVENT
END:VCALENDAR
