BEGIN:VCALENDAR
VERSION:2.0
PRODID:SchoolNow
CALSCALE:GREGORIAN
BEGIN:VEVENT
UID:c60f3b54-401d-11f0-801f-0ef12ce603c9
DTSTAMP:20260419T225506Z
SUMMARY:Holiday Break
URL;VALUE=URI:https://www.nextechhigh.org/grand-rapids/calendar/8242837/hol
 iday-break
DTSTART;VALUE=DATE:20251229
DTEND;VALUE=DATE:20251230
END:VEVENT
END:VCALENDAR
