BEGIN:VCALENDAR
VERSION:2.0
PRODID:SchoolNow
CALSCALE:GREGORIAN
BEGIN:VEVENT
UID:c60f38ac-401d-11f0-a886-0ef12ce603c9
DTSTAMP:20260419T225506Z
SUMMARY:Holiday Break
URL;VALUE=URI:https://www.nextechhigh.org/grand-rapids/calendar/8242834/hol
 iday-break
DTSTART;VALUE=DATE:20251224
DTEND;VALUE=DATE:20251225
END:VEVENT
END:VCALENDAR
