BEGIN:VCALENDAR
VERSION:2.0
PRODID:SchoolNow
CALSCALE:GREGORIAN
BEGIN:VEVENT
UID:c60f36e0-401d-11f0-bd4e-0ef12ce603c9
DTSTAMP:20260419T225506Z
SUMMARY:Holiday Break
URL;VALUE=URI:https://www.nextechhigh.org/grand-rapids/calendar/8242832/hol
 iday-break
DTSTART;VALUE=DATE:20251222
DTEND;VALUE=DATE:20251223
END:VEVENT
END:VCALENDAR
